BEGIN:VCALENDAR
VERSION:2.0
PRODID:-//FONMAR - ECPv6.1.3//NONSGML v1.0//EN
CALSCALE:GREGORIAN
METHOD:PUBLISH
X-WR-CALNAME:FONMAR
X-ORIGINAL-URL:https://fonmar.gob.mx
X-WR-CALDESC:Eventos para FONMAR
REFRESH-INTERVAL;VALUE=DURATION:PT1H
X-Robots-Tag:noindex
X-PUBLISHED-TTL:PT1H
BEGIN:VTIMEZONE
TZID:America/Mazatlan
BEGIN:STANDARD
TZOFFSETFROM:-0700
TZOFFSETTO:-0700
TZNAME:MST
DTSTART:20240101T000000
END:STANDARD
END:VTIMEZONE
BEGIN:VEVENT
DTSTART;VALUE=DATE:20241012
DTEND;VALUE=DATE:20241014
DTSTAMP:20260421T211036
CREATED:20240212T070801Z
LAST-MODIFIED:20240212T070801Z
UID:7849-1728691200-1728863999@fonmar.gob.mx
SUMMARY:(ORILLA) TORNEO PLAYA BUENAVISTA
DESCRIPTION:
URL:https://fonmar.gob.mx/event/orilla-torneo-playa-buenavista/
LOCATION:Buenavista\, Buenavista\, Baja California Sur\, México
END:VEVENT
BEGIN:VEVENT
DTSTART;VALUE=DATE:20241020
DTEND;VALUE=DATE:20241021
DTSTAMP:20260421T211036
CREATED:20240212T071116Z
LAST-MODIFIED:20240212T071116Z
UID:7858-1729382400-1729468799@fonmar.gob.mx
SUMMARY:(ORILLA) TORNEO DE PESCA Y CONVIVENCIA SINDICAL
DESCRIPTION:
URL:https://fonmar.gob.mx/event/orilla-torneo-de-pesca-y-convivencia-sindical-2/
LOCATION:Santa Rosalía\, Santa Rosalía\, Baja California Sur\, México
END:VEVENT
BEGIN:VEVENT
DTSTART;VALUE=DATE:20241026
DTEND;VALUE=DATE:20241028
DTSTAMP:20260421T211036
CREATED:20240212T071657Z
LAST-MODIFIED:20240212T071657Z
UID:7873-1729900800-1730073599@fonmar.gob.mx
SUMMARY:(ORILLA) ECHALE MONTÓN
DESCRIPTION:
URL:https://fonmar.gob.mx/event/orilla-echale-monton/
LOCATION:San Nicolás\, San Nicolás\, Baja California Sur\, México
END:VEVENT
END:VCALENDAR