BEGIN:VCALENDAR
VERSION:2.0
PRODID:-//FONMAR - ECPv6.1.3//NONSGML v1.0//EN
CALSCALE:GREGORIAN
METHOD:PUBLISH
X-WR-CALNAME:FONMAR
X-ORIGINAL-URL:https://fonmar.gob.mx
X-WR-CALDESC:Eventos para FONMAR
REFRESH-INTERVAL;VALUE=DURATION:PT1H
X-Robots-Tag:noindex
X-PUBLISHED-TTL:PT1H
BEGIN:VTIMEZONE
TZID:America/Mazatlan
BEGIN:STANDARD
TZOFFSETFROM:-0700
TZOFFSETTO:-0700
TZNAME:MST
DTSTART:20240101T000000
END:STANDARD
END:VTIMEZONE
BEGIN:VEVENT
DTSTART;VALUE=DATE:20240511
DTEND;VALUE=DATE:20240513
DTSTAMP:20260422T045430
CREATED:20240212T062301Z
LAST-MODIFIED:20240212T062301Z
UID:7707-1715385600-1715558399@fonmar.gob.mx
SUMMARY:(ORILLA) SERIAL DE PESCA DE ORILLA
DESCRIPTION:
URL:https://fonmar.gob.mx/event/orilla-serial-de-pesca-de-orilla/
LOCATION:Todos Santos\, Todos Santos\, Baja California Sur\, México
END:VEVENT
BEGIN:VEVENT
DTSTART;VALUE=DATE:20240518
DTEND;VALUE=DATE:20240519
DTSTAMP:20260422T045430
CREATED:20240212T062842Z
LAST-MODIFIED:20240212T062842Z
UID:7719-1715990400-1716076799@fonmar.gob.mx
SUMMARY:(ORILLA) TORNEO AMIGOS DEL SNTE
DESCRIPTION:
URL:https://fonmar.gob.mx/event/orilla-torneo-amigos-del-snte/
LOCATION:Punta Arena\, Punta Arena\, Baja California Sur\, México
END:VEVENT
BEGIN:VEVENT
DTSTART;VALUE=DATE:20240525
DTEND;VALUE=DATE:20240526
DTSTAMP:20260422T045430
CREATED:20240212T063118Z
LAST-MODIFIED:20240212T063118Z
UID:7730-1716595200-1716681599@fonmar.gob.mx
SUMMARY:(ORILLA) TORNEO CONVIVE EN FAMILIA
DESCRIPTION:
URL:https://fonmar.gob.mx/event/orilla-torneo-convive-en-familia/
LOCATION:Loreto\, Loreto\, Baja California Sur\, México
END:VEVENT
END:VCALENDAR